BEGIN:VCALENDAR
VERSION:2.0
PRODID:-//wp-events-plugin.com//7.2.3//EN
BEGIN:VEVENT
UID:142@gp14.org
DTSTART;TZID=Europe/London;VALUE=DATE:20260530
DTEND;TZID=Europe/London;VALUE=DATE:20260531
DTSTAMP:20251124T132123Z
URL:https://gp14.org/events/southern-travellers-14/
SUMMARY:Southern Travellers
DESCRIPTION:
ATTACH;FMTTYPE=image/jpeg:https://gp14.org/wp-content/uploads/2022/04/Sout
 h-Cerney.jpg
CATEGORIES:Southern
LOCATION:South Cerney Sailing Club\, 16 Station Rd\, Cirencester GL7 5TH\, 
 Cirencester\, GL7 5TH\, United Kingdom
GEO:51.670418;-1.916856
X-APPLE-STRUCTURED-LOCATION;VALUE=URI;X-ADDRESS=16 Station Rd\, Cirencester
  GL7 5TH\, Cirencester\, GL7 5TH\, United Kingdom;X-APPLE-RADIUS=100;X-TIT
 LE=South Cerney Sailing Club:geo:51.670418,-1.916856
END:VEVENT
BEGIN:VTIMEZONE
TZID:Europe/London
X-LIC-LOCATION:Europe/London
BEGIN:DAYLIGHT
DTSTART:20260329T020000
TZOFFSETFROM:+0000
TZOFFSETTO:+0100
TZNAME:BST
END:DAYLIGHT
END:VTIMEZONE
END:VCALENDAR