BEGIN:VCALENDAR
VERSION:2.0
PRODID:-//wp-events-plugin.com//7.2.3//EN
BEGIN:VEVENT
UID:163@gp14.org
DTSTART;TZID=Europe/London;VALUE=DATE:20260627
DTEND;TZID=Europe/London;VALUE=DATE:20260629
DTSTAMP:20251211T135440Z
URL:https://gp14.org/events/scottish-borders-bell/
SUMMARY:Scottish & Borders Bell
DESCRIPTION:
ATTACH;FMTTYPE=image/jpeg:https://gp14.org/wp-content/uploads/2025/12/IMG_
 4882.jpeg
CATEGORIES:Scottish
LOCATION:Largo Bay sailing club\, Main St\, Lower Largo\, Leven KY8 6BP\, L
 even \, KY8 6BP\, United Kingdom
X-APPLE-STRUCTURED-LOCATION;VALUE=URI;X-ADDRESS=Main St\, Lower Largo\, Lev
 en KY8 6BP\, Leven \, KY8 6BP\, United Kingdom;X-APPLE-RADIUS=100;X-TITLE=
 Largo Bay sailing club:geo:0,0
END:VEVENT
BEGIN:VTIMEZONE
TZID:Europe/London
X-LIC-LOCATION:Europe/London
BEGIN:DAYLIGHT
DTSTART:20260329T020000
TZOFFSETFROM:+0000
TZOFFSETTO:+0100
TZNAME:BST
END:DAYLIGHT
END:VTIMEZONE
END:VCALENDAR