BEGIN:VCALENDAR
VERSION:2.0
PRODID:-//wp-events-plugin.com//7.2.3//EN
BEGIN:VEVENT
UID:164@gp14.org
DTSTART;TZID=Europe/London;VALUE=DATE:20260905
DTEND;TZID=Europe/London;VALUE=DATE:20260907
DTSTAMP:20251211T140922Z
URL:https://gp14.org/events/scottish-and-borders-bell/
SUMMARY:Scottish & Borders Bell
DESCRIPTION:
ATTACH;FMTTYPE=image/jpeg:https://gp14.org/wp-content/uploads/2025/12/IMG_
 4884.jpeg
CATEGORIES:Scottish
LOCATION:Loch Lomond S.C\, Un-named Road\, Glasgow \, G63 0AL\, Scotland
X-APPLE-STRUCTURED-LOCATION;VALUE=URI;X-ADDRESS=Un-named Road\, Glasgow \, 
 G63 0AL\, Scotland;X-APPLE-RADIUS=100;X-TITLE=Loch Lomond S.C:geo:0,0
END:VEVENT
BEGIN:VTIMEZONE
TZID:Europe/London
X-LIC-LOCATION:Europe/London
BEGIN:DAYLIGHT
DTSTART:20260329T020000
TZOFFSETFROM:+0000
TZOFFSETTO:+0100
TZNAME:BST
END:DAYLIGHT
END:VTIMEZONE
END:VCALENDAR