BEGIN:VCALENDAR
VERSION:2.0
PRODID:-//wp-events-plugin.com//7.2.3//EN
BEGIN:VEVENT
UID:134@gp14.org
DTSTART;TZID=Europe/London:20260517T000000
DTEND;TZID=Europe/London:20260517T000000
DTSTAMP:20251209T042339Z
URL:https://gp14.org/events/northern-bell-tbc-2/
SUMMARY:Northern Bell
DESCRIPTION:
ATTACH;FMTTYPE=image/jpeg:https://gp14.org/wp-content/uploads/2016/06/west
 -kirby2.jpg
CATEGORIES:Northern
LOCATION:West Kirby Sailing Club\, Sandy Ln\, West Kirby\, Wirral CH48 3HZ\
 , West Kirby\, United Kingdom
GEO:53.364435;-3.18005
X-APPLE-STRUCTURED-LOCATION;VALUE=URI;X-ADDRESS=Sandy Ln\, West Kirby\, Wir
 ral CH48 3HZ\, West Kirby\, United Kingdom;X-APPLE-RADIUS=100;X-TITLE=West
  Kirby Sailing Club:geo:53.364435,-3.18005
END:VEVENT
BEGIN:VTIMEZONE
TZID:Europe/London
X-LIC-LOCATION:Europe/London
BEGIN:DAYLIGHT
DTSTART:20260329T020000
TZOFFSETFROM:+0000
TZOFFSETTO:+0100
TZNAME:BST
END:DAYLIGHT
END:VTIMEZONE
END:VCALENDAR