BEGIN:VCALENDAR
VERSION:2.0
PRODID:-//wp-events-plugin.com//7.2.3//EN
BEGIN:VEVENT
UID:167@gp14.org
DTSTART;TZID=Europe/London:20260627T000000
DTEND;TZID=Europe/London:20260627T000000
DTSTAMP:20260127T101648Z
URL:https://gp14.org/events/national-junior-12hr-race/
SUMMARY:National Junior 12hr Race
DESCRIPTION:More information here
ATTACH;FMTTYPE=image/jpeg:https://gp14.org/wp-content/uploads/2026/01/DSC_
 0334.jpg
CATEGORIES:Northern,Youth
LOCATION:Southport Sailing Club\, Southport PR8 1RY\, Southport\, United Ki
 ngdom
GEO:53.657061;-3.007098
X-APPLE-STRUCTURED-LOCATION;VALUE=URI;X-ADDRESS=Southport PR8 1RY\, Southpo
 rt\, United Kingdom;X-APPLE-RADIUS=100;X-TITLE=Southport Sailing Club:geo:
 53.657061,-3.007098
END:VEVENT
BEGIN:VTIMEZONE
TZID:Europe/London
X-LIC-LOCATION:Europe/London
BEGIN:DAYLIGHT
DTSTART:20260329T020000
TZOFFSETFROM:+0000
TZOFFSETTO:+0100
TZNAME:BST
END:DAYLIGHT
END:VTIMEZONE
END:VCALENDAR