BEGIN:VCALENDAR
VERSION:2.0
PRODID:-//wp-events-plugin.com//7.2.3//EN
BEGIN:VEVENT
UID:140@gp14.org
DTSTART;TZID=Europe/London;VALUE=DATE:20260926
DTEND;TZID=Europe/London;VALUE=DATE:20260927
DTSTAMP:20251124T131838Z
URL:https://gp14.org/events/midland-bell-13/
SUMMARY:Midland Bell
DESCRIPTION:
ATTACH;FMTTYPE=image/jpeg:https://gp14.org/wp-content/uploads/2018/09/Sout
 h-Staffs-SC.jpg
CATEGORIES:Midland
LOCATION:South Staffordshire Sailing Club\, Gailey Lower Pool\, Gailey Lea 
 Ln\, Gailey\, Penkridge\, Stafford ST19 5PT\, Gailey\, United Kingdom
GEO:52.69233;-2.093475
X-APPLE-STRUCTURED-LOCATION;VALUE=URI;X-ADDRESS=Gailey Lower Pool\, Gailey 
 Lea Ln\, Gailey\, Penkridge\, Stafford ST19 5PT\, Gailey\, United Kingdom;
 X-APPLE-RADIUS=100;X-TITLE=South Staffordshire Sailing Club:geo:52.69233,-
 2.093475
END:VEVENT
BEGIN:VTIMEZONE
TZID:Europe/London
X-LIC-LOCATION:Europe/London
BEGIN:DAYLIGHT
DTSTART:20260329T020000
TZOFFSETFROM:+0000
TZOFFSETTO:+0100
TZNAME:BST
END:DAYLIGHT
END:VTIMEZONE
END:VCALENDAR