BEGIN:VCALENDAR
VERSION:2.0
PRODID:-//wp-events-plugin.com//7.2.3//EN
BEGIN:VEVENT
UID:139@gp14.org
DTSTART;TZID=Europe/London;VALUE=DATE:20260711
DTEND;TZID=Europe/London;VALUE=DATE:20260712
DTSTAMP:20251124T131728Z
URL:https://gp14.org/events/midland-bell-12/
SUMMARY:Midland Bell
DESCRIPTION:
ATTACH;FMTTYPE=image/jpeg:https://gp14.org/wp-content/uploads/2019/06/trim
 pley-open-2019-yandy252873.jpg
CATEGORIES:Midland
LOCATION:Trimpley Sailing Club\, Trimpley Reservoir Eymore Wood\, Bewdley D
 Y12 1PJ\, Bewdley\, Bewdley\, DY12 1PJ\, Bewdley\, United Kingdom
GEO:52.408322;-2.340753
X-APPLE-STRUCTURED-LOCATION;VALUE=URI;X-ADDRESS=Trimpley Reservoir Eymore W
 ood\, Bewdley DY12 1PJ\, Bewdley\, Bewdley\, DY12 1PJ\, Bewdley\, United K
 ingdom;X-APPLE-RADIUS=100;X-TITLE=Trimpley Sailing Club:geo:52.408322,-2.3
 40753
END:VEVENT
BEGIN:VTIMEZONE
TZID:Europe/London
X-LIC-LOCATION:Europe/London
BEGIN:DAYLIGHT
DTSTART:20260329T020000
TZOFFSETFROM:+0000
TZOFFSETTO:+0100
TZNAME:BST
END:DAYLIGHT
END:VTIMEZONE
END:VCALENDAR