BEGIN:VCALENDAR
VERSION:2.0
PRODID:-//wp-events-plugin.com//7.2.3//EN
BEGIN:VEVENT
UID:138@gp14.org
DTSTART;TZID=Europe/London;VALUE=DATE:20260628
DTEND;TZID=Europe/London;VALUE=DATE:20260629
DTSTAMP:20251124T131623Z
URL:https://gp14.org/events/midland-bell-11/
SUMMARY:Midland Bell
DESCRIPTION:
ATTACH;FMTTYPE=image/jpeg:https://gp14.org/wp-content/uploads/2018/03/Midl
 andSC.jpg
CATEGORIES:Midland
LOCATION:Midland Sailing Club\, Icknield Port Rd\, Birmingham B16 0AA\, Bir
 mingham\, Birmingham\, B16 0AA\, Birmingham\, United Kingdom
GEO:52.48248;-1.935236
X-APPLE-STRUCTURED-LOCATION;VALUE=URI;X-ADDRESS=Icknield Port Rd\, Birmingh
 am B16 0AA\, Birmingham\, Birmingham\, B16 0AA\, Birmingham\, United Kingd
 om;X-APPLE-RADIUS=100;X-TITLE=Midland Sailing Club:geo:52.48248,-1.935236
END:VEVENT
BEGIN:VTIMEZONE
TZID:Europe/London
X-LIC-LOCATION:Europe/London
BEGIN:DAYLIGHT
DTSTART:20260329T020000
TZOFFSETFROM:+0000
TZOFFSETTO:+0100
TZNAME:BST
END:DAYLIGHT
END:VTIMEZONE
END:VCALENDAR