BEGIN:VCALENDAR
VERSION:2.0
PRODID:-//wp-events-plugin.com//7.2.3//EN
BEGIN:VEVENT
UID:137@gp14.org
DTSTART;TZID=Europe/London;VALUE=DATE:20260516
DTEND;TZID=Europe/London;VALUE=DATE:20260517
DTSTAMP:20260207T204551Z
URL:https://gp14.org/events/midland-bell-10/
SUMMARY:Midland Bell
DESCRIPTION:
ATTACH;FMTTYPE=image/jpeg:https://gp14.org/wp-content/uploads/2025/11/tamw
 orth.jpg
CATEGORIES:Midland
LOCATION:Tamworth Sailing club\, Water Park\, Kingsbury\, Tamworth\, Sutton
  Coldfield B76 0DY\, Tamworth\, Sutton Coldfield\, B76 0DY\, United Kingdo
 m
GEO:52.559028;-1.696282
X-APPLE-STRUCTURED-LOCATION;VALUE=URI;X-ADDRESS=Water Park\, Kingsbury\, Ta
 mworth\, Sutton Coldfield B76 0DY\, Tamworth\, Sutton Coldfield\, B76 0DY\
 , United Kingdom;X-APPLE-RADIUS=100;X-TITLE=Tamworth Sailing club:geo:52.5
 59028,-1.696282
END:VEVENT
BEGIN:VTIMEZONE
TZID:Europe/London
X-LIC-LOCATION:Europe/London
BEGIN:DAYLIGHT
DTSTART:20260329T020000
TZOFFSETFROM:+0000
TZOFFSETTO:+0100
TZNAME:BST
END:DAYLIGHT
END:VTIMEZONE
END:VCALENDAR