BEGIN:VCALENDAR
VERSION:2.0
PRODID:-//wp-events-plugin.com//7.2.3//EN
BEGIN:VEVENT
UID:160@gp14.org
DTSTART;TZID=Europe/London;VALUE=DATE:20260801
DTEND;TZID=Europe/London;VALUE=DATE:20260803
DTSTAMP:20251130T175605Z
URL:https://gp14.org/events/irish-nationals-2/
SUMMARY:Irish Nationals
DESCRIPTION:
ATTACH;FMTTYPE=image/jpeg:https://gp14.org/wp-content/uploads/2016/12/GP14
 -Ireland-hdr.jpg
CATEGORIES:Ireland
LOCATION:Carrickfergus Sailing Club\, Quayside\, Carrickfergus BT38 8BJ\, C
 arrickfergus \, BT38 8BJ\, Northern Ireland
X-APPLE-STRUCTURED-LOCATION;VALUE=URI;X-ADDRESS=Quayside\, Carrickfergus BT
 38 8BJ\, Carrickfergus \, BT38 8BJ\, Northern Ireland;X-APPLE-RADIUS=100;X
 -TITLE=Carrickfergus Sailing Club:geo:0,0
END:VEVENT
BEGIN:VTIMEZONE
TZID:Europe/London
X-LIC-LOCATION:Europe/London
BEGIN:DAYLIGHT
DTSTART:20260329T020000
TZOFFSETFROM:+0000
TZOFFSETTO:+0100
TZNAME:BST
END:DAYLIGHT
END:VTIMEZONE
END:VCALENDAR