BEGIN:VCALENDAR
VERSION:2.0
PRODID:-//wp-events-plugin.com//7.2.3//EN
BEGIN:VEVENT
UID:78@gp14.org
DTSTART;VALUE=DATE:20220702
DTEND;VALUE=DATE:20220704
DTSTAMP:20250226T125942Z
URL:https://gp14.org/events/irish-national-championship/
SUMMARY:Irish National Championship
DESCRIPTION:At Royal North of Ireland Yacht Club.\nSee Irish Website for mo
 re information.\n&nbsp\;
CATEGORIES:Championship,Ireland
LOCATION:Loch Lomond S.C\, Un-named Road\, Glasgow \, G63 0AL\, Scotland
X-APPLE-STRUCTURED-LOCATION;VALUE=URI;X-ADDRESS=Un-named Road\, Glasgow \, 
 G63 0AL\, Scotland;X-APPLE-RADIUS=100;X-TITLE=Loch Lomond S.C:geo:0,0
END:VEVENT
END:VCALENDAR