BEGIN:VCALENDAR
VERSION:2.0
PRODID:-//wp-events-plugin.com//7.2.3//EN
BEGIN:VEVENT
UID:95@gp14.org
DTSTART;VALUE=DATE:20210203
DTEND;VALUE=DATE:20210218
DTSTAMP:20250226T125942Z
URL:https://gp14.org/events/gp14-e-sailing-winter-championships/
SUMMARY:GP14 E Sailing Winter Championships
DESCRIPTION:We are pleased to announce this E-Sailing event\, which consist
 s of a TWELVE race series. It will take place as a set of FOUR races over 
 THREE dates: Feb 3rd\, 10th and 17th. Please Note: only ONE entry is requ
 ired for the series. 
ATTACH;FMTTYPE=image/jpeg:https://gp14.org/wp-content/uploads/2020/04/Virt
 ual_Regatta_inshore.jpg
CATEGORIES:National,open meeting
LOCATION:St Andrews Sailing Club\, Woodburn Place\, St Andrews\, Fife\, KY1
 6 8LA\, Scotland
X-APPLE-STRUCTURED-LOCATION;VALUE=URI;X-ADDRESS=Woodburn Place\, St Andrews
 \, Fife\, KY16 8LA\, Scotland;X-APPLE-RADIUS=100;X-TITLE=St Andrews Sailin
 g Club:geo:0,0
END:VEVENT
END:VCALENDAR