BEGIN:VCALENDAR
VERSION:2.0
PRODID:-//wp-events-plugin.com//7.2.3//EN
BEGIN:VEVENT
UID:154@gp14.org
DTSTART;TZID=Europe/London;VALUE=DATE:20260830
DTEND;TZID=Europe/London;VALUE=DATE:20260903
DTSTAMP:20251130T180551Z
URL:https://gp14.org/events/autumn-cruise-3/
SUMMARY:Autumn Cruise
DESCRIPTION:
ATTACH;FMTTYPE=image/jpeg:https://gp14.org/wp-content/uploads/2025/03/2005
 -GP14-National-Cruising-Week-1-Resized.jpg
CATEGORIES:Cruising,Northern
LOCATION:kielder water sailing cub\, Kielder Water Sailing Club\, Hexham NE
 48 1AU\, Hexham\, NE48 1AU\, United Kingdom
X-APPLE-STRUCTURED-LOCATION;VALUE=URI;X-ADDRESS=Kielder Water Sailing Club\
 , Hexham NE48 1AU\, Hexham\, NE48 1AU\, United Kingdom;X-APPLE-RADIUS=100;
 X-TITLE=kielder water sailing cub:geo:0,0
END:VEVENT
BEGIN:VTIMEZONE
TZID:Europe/London
X-LIC-LOCATION:Europe/London
BEGIN:DAYLIGHT
DTSTART:20260329T020000
TZOFFSETFROM:+0000
TZOFFSETTO:+0100
TZNAME:BST
END:DAYLIGHT
END:VTIMEZONE
END:VCALENDAR